BEGIN:VCALENDAR
VERSION:2.0
PRODID:-//ALPINALE Kurzfilmfestival - ECPv6.15.20//NONSGML v1.0//EN
CALSCALE:GREGORIAN
METHOD:PUBLISH
X-WR-CALNAME:ALPINALE Kurzfilmfestival
X-ORIGINAL-URL:https://alpinale.at
X-WR-CALDESC:Veranstaltungen für ALPINALE Kurzfilmfestival
REFRESH-INTERVAL;VALUE=DURATION:PT1H
X-Robots-Tag:noindex
X-PUBLISHED-TTL:PT1H
BEGIN:VTIMEZONE
TZID:Europe/Vienna
BEGIN:DAYLIGHT
TZOFFSETFROM:+0100
TZOFFSETTO:+0200
TZNAME:CEST
DTSTART:20250330T010000
END:DAYLIGHT
BEGIN:STANDARD
TZOFFSETFROM:+0200
TZOFFSETTO:+0100
TZNAME:CET
DTSTART:20251026T010000
END:STANDARD
BEGIN:DAYLIGHT
TZOFFSETFROM:+0100
TZOFFSETTO:+0200
TZNAME:CEST
DTSTART:20260329T010000
END:DAYLIGHT
BEGIN:STANDARD
TZOFFSETFROM:+0200
TZOFFSETTO:+0100
TZNAME:CET
DTSTART:20261025T010000
END:STANDARD
BEGIN:DAYLIGHT
TZOFFSETFROM:+0100
TZOFFSETTO:+0200
TZNAME:CEST
DTSTART:20270328T010000
END:DAYLIGHT
BEGIN:STANDARD
TZOFFSETFROM:+0200
TZOFFSETTO:+0100
TZNAME:CET
DTSTART:20271031T010000
END:STANDARD
END:VTIMEZONE
BEGIN:VEVENT
DTSTART;TZID=Europe/Vienna:20260310T193000
DTEND;TZID=Europe/Vienna:20260310T213000
DTSTAMP:20260420T044846
CREATED:20250911T140303Z
LAST-MODIFIED:20250911T140303Z
UID:12848-1773171000-1773178200@alpinale.at
SUMMARY:auf Tour: Dorfmitte Koblach (2026)
DESCRIPTION:Ticketinfo \nDie besten ALPINALE Kurzfilme vom vergangenen Festival auf Tour. Ein ausgewähltes Programm von Publikumsfavoriten\, sowie mit dem Goldenen Einhorn ausgezeichnete Kurzfilme\, werden auf großer Leinwand vorgeführt. \n\nTickets beim Veranstalter erhältlich (Vorverkauf oder Abendkassa) \n\nKurzfilme werden von der ALPINALE zur Verfügung gestellt \n\nKategorie: 2025 v-shorts \nDAS ALTE MÄDCHENRegie: Hanna Mathis \nTrailer2024 \nÖsterreich \n5 Minuten \nMira\, 72\, ist zufrieden. Sie schreibt Gedichte an ihr junges Ich über ihr Leben\, die frische Ehe und Selbstliebe. \nBester Kurzfilm v-shorts 2025 \n\nKategorie: 2025 Animation \nDRAGFOXRegie: Lisa Ott \nTrailer2024 \nSchweiz \n8 Minuten \nSams Identitätssuche wird von einem geheimnisvollen Fuchs unterbrochen. Gemeinsam begeben sie sich auf eine magische Reise zum Dachboden\, um überraschende Gemeinsamkeiten zu entdecken und ihre Unterschiede zu feiern. \n\nKategorie: 2025 Kurzspielfilm \nSKIN ON SKINRegie: Simon Schneckenburger \nTrailer2024 \nDeutschland \n30 Minuten \nZwei Männer sind in der Hölle der deutschen Fleischindustrie gestrandet. Etwas Unausgesprochenes liegt zwischen ihnen\, doch etwas lässt sie auch wieder träumen. \nBester Kurzspielfilm 2025 \n\nKategorie: 2025 Kurzspielfilm \nMORT D’UN ACTEURRegie: Ambroise Rateau \nTrailer2024 \nFrankreich \n22 Minuten \nAls ein Mann entdeckt\, dass sich Falschmeldungen über seinen eigenen Tod online verbreiten\, muss er sich den schwerwiegenden\, unbeabsichtigten Folgen dieses Gerüchts stellen. \n\nKategorie: 2025 Kurzspielfilm \nALLÉGRESSERegie: Gillie Cinneri \nTrailer2023 \nBelgien \n19 Minuten \nDer Bestattungsunternehmer Serge erhält das Sorgerecht für seine Tochter Inès und die Asche eines Unbekannten. Auf der gemeinsamen Reise\, um dem Unbekannten die letzte Ehre zu erweisen\, knüpfen Serge und Inès unerwartete Bande. \n\nKategorie: 2025 Kurzspielfilm \nTHE TERRORISTRegie: Meena Rathor \nTrailer2024 \nNorwegen \n11 Minuten \nAls drei Mitbewohner einen neuen Hausgenossen aufnehmen\, steigen die Spannungen\, während Misstrauen über dessen wahre Natur wächst. Mit Humor und Satire entlarvt die Geschichte vorgefasste Meinungen und erforscht die Absurdität von Angst und Vorurteilen. \nPublikumspreis 2025
URL:https://alpinale.at/veranstaltung/auf-tour-dorfmitte-koblach-2026/
LOCATION:kulturkoblach\, Klauser Ried 29\, Koblach\, Vorarlberg\, 6842\, Austria
CATEGORIES:2026 - ALPINALE auf Tour
ATTACH;FMTTYPE=image/jpeg:https://alpinale.at/wp-content/uploads/2024/09/alpinaleauftour_koblach.jpg
END:VEVENT
BEGIN:VEVENT
DTSTART;TZID=Europe/Vienna:20260312T193000
DTEND;TZID=Europe/Vienna:20260312T213000
DTSTAMP:20260420T044846
CREATED:20250911T140855Z
LAST-MODIFIED:20250911T140855Z
UID:12851-1773343800-1773351000@alpinale.at
SUMMARY:auf Tour: Dorfsaal Mellau (2026)
DESCRIPTION:Ticketinfo \nDie besten ALPINALE Kurzfilme vom vergangenen Festival auf Tour. Ein ausgewähltes Programm von Publikumsfavoriten\, sowie mit dem Goldenen Einhorn ausgezeichnete Kurzfilme\, werden auf großer Leinwand vorgeführt. \n\nTickets beim Veranstalter erhältlich (Vorverkauf oder Abendkassa) \n\nKurzfilme werden von der ALPINALE zur Verfügung gestellt \n\nKategorie: 2025 v-shorts \nDAS ALTE MÄDCHENRegie: Hanna Mathis \nTrailer2024 \nÖsterreich \n5 Minuten \nMira\, 72\, ist zufrieden. Sie schreibt Gedichte an ihr junges Ich über ihr Leben\, die frische Ehe und Selbstliebe. \nBester Kurzfilm v-shorts 2025 \n\nKategorie: 2025 Animation \nDRAGFOXRegie: Lisa Ott \nTrailer2024 \nSchweiz \n8 Minuten \nSams Identitätssuche wird von einem geheimnisvollen Fuchs unterbrochen. Gemeinsam begeben sie sich auf eine magische Reise zum Dachboden\, um überraschende Gemeinsamkeiten zu entdecken und ihre Unterschiede zu feiern. \n\nKategorie: 2025 Kurzspielfilm \nSKIN ON SKINRegie: Simon Schneckenburger \nTrailer2024 \nDeutschland \n30 Minuten \nZwei Männer sind in der Hölle der deutschen Fleischindustrie gestrandet. Etwas Unausgesprochenes liegt zwischen ihnen\, doch etwas lässt sie auch wieder träumen. \nBester Kurzspielfilm 2025 \n\nKategorie: 2025 Kurzspielfilm \nMORT D’UN ACTEURRegie: Ambroise Rateau \nTrailer2024 \nFrankreich \n22 Minuten \nAls ein Mann entdeckt\, dass sich Falschmeldungen über seinen eigenen Tod online verbreiten\, muss er sich den schwerwiegenden\, unbeabsichtigten Folgen dieses Gerüchts stellen. \n\nKategorie: 2025 Kurzspielfilm \nALLÉGRESSERegie: Gillie Cinneri \nTrailer2023 \nBelgien \n19 Minuten \nDer Bestattungsunternehmer Serge erhält das Sorgerecht für seine Tochter Inès und die Asche eines Unbekannten. Auf der gemeinsamen Reise\, um dem Unbekannten die letzte Ehre zu erweisen\, knüpfen Serge und Inès unerwartete Bande. \n\nKategorie: 2025 Kurzspielfilm \nTHE TERRORISTRegie: Meena Rathor \nTrailer2024 \nNorwegen \n11 Minuten \nAls drei Mitbewohner einen neuen Hausgenossen aufnehmen\, steigen die Spannungen\, während Misstrauen über dessen wahre Natur wächst. Mit Humor und Satire entlarvt die Geschichte vorgefasste Meinungen und erforscht die Absurdität von Angst und Vorurteilen. \nPublikumspreis 2025
URL:https://alpinale.at/veranstaltung/auf-tour-dorfsaal-mellau-2026/
LOCATION:Dorfsaal Mellau\, Platz 551\, Mellau\, 6881\, Austria
CATEGORIES:2026 - ALPINALE auf Tour
ATTACH;FMTTYPE=image/jpeg:https://alpinale.at/wp-content/uploads/2024/09/alpinaleauftour_mellau-dorfsaal.jpg
END:VEVENT
BEGIN:VEVENT
DTSTART;TZID=Europe/Vienna:20260318T200000
DTEND;TZID=Europe/Vienna:20260318T220000
DTSTAMP:20260420T044846
CREATED:20250911T140942Z
LAST-MODIFIED:20251002T211254Z
UID:12852-1773864000-1773871200@alpinale.at
SUMMARY:auf Tour: Gemeindesaal Damüls (2026)
DESCRIPTION:Ticketinfo \nDie besten ALPINALE Kurzfilme vom vergangenen Festival auf Tour. Ein ausgewähltes Programm von Publikumsfavoriten\, sowie mit dem Goldenen Einhorn ausgezeichnete Kurzfilme\, werden auf großer Leinwand vorgeführt. \n\nTickets beim Veranstalter erhältlich (Vorverkauf oder Abendkassa) \n\nKurzfilme werden von der ALPINALE zur Verfügung gestellt
URL:https://alpinale.at/veranstaltung/auf-tour-gemeindesaal-damuels-2026/
LOCATION:Gemeindesaal Damüls\, Kirchdorf 138\, Damüls\, 6884\, Austria
CATEGORIES:2026 - ALPINALE auf Tour
ATTACH;FMTTYPE=image/jpeg:https://alpinale.at/wp-content/uploads/2024/09/alpinaleauftour_damuels.jpg
END:VEVENT
BEGIN:VEVENT
DTSTART;TZID=Europe/Vienna:20260325T193000
DTEND;TZID=Europe/Vienna:20260325T213000
DTSTAMP:20260420T044846
CREATED:20251112T031145Z
LAST-MODIFIED:20260120T223032Z
UID:13216-1774467000-1774474200@alpinale.at
SUMMARY:auf Tour: Kultur Schänis (2026)
DESCRIPTION:Ticketinfo \nDie besten ALPINALE Kurzfilme vom vergangenen Festival auf Tour. Ein ausgewähltes Programm von Publikumsfavoriten\, sowie mit dem Goldenen Einhorn ausgezeichnete Kurzfilme\, werden auf großer Leinwand vorgeführt. \n\nTickets beim Veranstalter erhältlich (Vorverkauf oder Abendkassa) \n\nKurzfilme werden von der ALPINALE zur Verfügung gestellt \n\nKategorie: 2025 v-shorts \nDAS ALTE MÄDCHENRegie: Hanna Mathis \nTrailer2024 \nÖsterreich \n5 Minuten \nMira\, 72\, ist zufrieden. Sie schreibt Gedichte an ihr junges Ich über ihr Leben\, die frische Ehe und Selbstliebe. \nBester Kurzfilm v-shorts 2025 \n\nKategorie: 2025 Animation \nDRAGFOXRegie: Lisa Ott \nTrailer2024 \nSchweiz \n8 Minuten \nSams Identitätssuche wird von einem geheimnisvollen Fuchs unterbrochen. Gemeinsam begeben sie sich auf eine magische Reise zum Dachboden\, um überraschende Gemeinsamkeiten zu entdecken und ihre Unterschiede zu feiern. \n\nKategorie: 2025 Kurzspielfilm \nSKIN ON SKINRegie: Simon Schneckenburger \nTrailer2024 \nDeutschland \n30 Minuten \nZwei Männer sind in der Hölle der deutschen Fleischindustrie gestrandet. Etwas Unausgesprochenes liegt zwischen ihnen\, doch etwas lässt sie auch wieder träumen. \nBester Kurzspielfilm 2025 \n\nKategorie: 2025 Kurzspielfilm \nMORT D’UN ACTEURRegie: Ambroise Rateau \nTrailer2024 \nFrankreich \n22 Minuten \nAls ein Mann entdeckt\, dass sich Falschmeldungen über seinen eigenen Tod online verbreiten\, muss er sich den schwerwiegenden\, unbeabsichtigten Folgen dieses Gerüchts stellen. \n\nKategorie: 2025 Kurzspielfilm \nALLÉGRESSERegie: Gillie Cinneri \nTrailer2023 \nBelgien \n19 Minuten \nDer Bestattungsunternehmer Serge erhält das Sorgerecht für seine Tochter Inès und die Asche eines Unbekannten. Auf der gemeinsamen Reise\, um dem Unbekannten die letzte Ehre zu erweisen\, knüpfen Serge und Inès unerwartete Bande. \n\nKategorie: 2025 Kurzspielfilm \nTHE TERRORISTRegie: Meena Rathor \nTrailer2024 \nNorwegen \n11 Minuten \nAls drei Mitbewohner einen neuen Hausgenossen aufnehmen\, steigen die Spannungen\, während Misstrauen über dessen wahre Natur wächst. Mit Humor und Satire entlarvt die Geschichte vorgefasste Meinungen und erforscht die Absurdität von Angst und Vorurteilen. \nPublikumspreis 2025
URL:https://alpinale.at/veranstaltung/auf-tour-kultur-schaenis-2026/
LOCATION:Kultur Schänis\, Eichen\, Schänis\, 8718\, Switzerland
CATEGORIES:2026 - ALPINALE auf Tour
ATTACH;FMTTYPE=image/jpeg:https://alpinale.at/wp-content/uploads/2024/09/alpinaleauftour_kultur-schaenis.jpg
END:VEVENT
END:VCALENDAR