BEGIN:VCALENDAR
VERSION:2.0
PRODID:-//ALPINALE Kurzfilmfestival - ECPv6.15.20//NONSGML v1.0//EN
CALSCALE:GREGORIAN
METHOD:PUBLISH
X-WR-CALNAME:ALPINALE Kurzfilmfestival
X-ORIGINAL-URL:https://alpinale.at
X-WR-CALDESC:Veranstaltungen für ALPINALE Kurzfilmfestival
REFRESH-INTERVAL;VALUE=DURATION:PT1H
X-Robots-Tag:noindex
X-PUBLISHED-TTL:PT1H
BEGIN:VTIMEZONE
TZID:Europe/Vienna
BEGIN:DAYLIGHT
TZOFFSETFROM:+0100
TZOFFSETTO:+0200
TZNAME:CEST
DTSTART:20250330T010000
END:DAYLIGHT
BEGIN:STANDARD
TZOFFSETFROM:+0200
TZOFFSETTO:+0100
TZNAME:CET
DTSTART:20251026T010000
END:STANDARD
BEGIN:DAYLIGHT
TZOFFSETFROM:+0100
TZOFFSETTO:+0200
TZNAME:CEST
DTSTART:20260329T010000
END:DAYLIGHT
BEGIN:STANDARD
TZOFFSETFROM:+0200
TZOFFSETTO:+0100
TZNAME:CET
DTSTART:20261025T010000
END:STANDARD
BEGIN:DAYLIGHT
TZOFFSETFROM:+0100
TZOFFSETTO:+0200
TZNAME:CEST
DTSTART:20270328T010000
END:DAYLIGHT
BEGIN:STANDARD
TZOFFSETFROM:+0200
TZOFFSETTO:+0100
TZNAME:CET
DTSTART:20271031T010000
END:STANDARD
END:VTIMEZONE
BEGIN:VEVENT
DTSTART;TZID=Europe/Vienna:20260205T200000
DTEND;TZID=Europe/Vienna:20260205T220000
DTSTAMP:20260420T025201
CREATED:20250911T135057Z
LAST-MODIFIED:20250911T135057Z
UID:12820-1770321600-1770328800@alpinale.at
SUMMARY:auf Tour: Bücherei Hohenems (2026)
DESCRIPTION:Ticketinfo \nDie besten ALPINALE Kurzfilme vom vergangenen Festival auf Tour. Ein ausgewähltes Programm von Publikumsfavoriten\, sowie mit dem Goldenen Einhorn ausgezeichnete Kurzfilme\, werden auf großer Leinwand vorgeführt. \n\nTickets beim Veranstalter erhältlich (Vorverkauf oder Abendkassa) \n\nKurzfilme werden von der ALPINALE zur Verfügung gestellt \n\nKategorie: 2025 v-shorts \nDAS ALTE MÄDCHENRegie: Hanna Mathis \nTrailer2024 \nÖsterreich \n5 Minuten \nMira\, 72\, ist zufrieden. Sie schreibt Gedichte an ihr junges Ich über ihr Leben\, die frische Ehe und Selbstliebe. \nBester Kurzfilm v-shorts 2025 \n\nKategorie: 2025 Animation \nDRAGFOXRegie: Lisa Ott \nTrailer2024 \nSchweiz \n8 Minuten \nSams Identitätssuche wird von einem geheimnisvollen Fuchs unterbrochen. Gemeinsam begeben sie sich auf eine magische Reise zum Dachboden\, um überraschende Gemeinsamkeiten zu entdecken und ihre Unterschiede zu feiern. \n\nKategorie: 2025 Kurzspielfilm \nSKIN ON SKINRegie: Simon Schneckenburger \nTrailer2024 \nDeutschland \n30 Minuten \nZwei Männer sind in der Hölle der deutschen Fleischindustrie gestrandet. Etwas Unausgesprochenes liegt zwischen ihnen\, doch etwas lässt sie auch wieder träumen. \nBester Kurzspielfilm 2025 \n\nKategorie: 2025 Kurzspielfilm \nMORT D’UN ACTEURRegie: Ambroise Rateau \nTrailer2024 \nFrankreich \n22 Minuten \nAls ein Mann entdeckt\, dass sich Falschmeldungen über seinen eigenen Tod online verbreiten\, muss er sich den schwerwiegenden\, unbeabsichtigten Folgen dieses Gerüchts stellen. \n\nKategorie: 2025 Kurzspielfilm \nALLÉGRESSERegie: Gillie Cinneri \nTrailer2023 \nBelgien \n19 Minuten \nDer Bestattungsunternehmer Serge erhält das Sorgerecht für seine Tochter Inès und die Asche eines Unbekannten. Auf der gemeinsamen Reise\, um dem Unbekannten die letzte Ehre zu erweisen\, knüpfen Serge und Inès unerwartete Bande. \n\nKategorie: 2025 Kurzspielfilm \nTHE TERRORISTRegie: Meena Rathor \nTrailer2024 \nNorwegen \n11 Minuten \nAls drei Mitbewohner einen neuen Hausgenossen aufnehmen\, steigen die Spannungen\, während Misstrauen über dessen wahre Natur wächst. Mit Humor und Satire entlarvt die Geschichte vorgefasste Meinungen und erforscht die Absurdität von Angst und Vorurteilen. \nPublikumspreis 2025
URL:https://alpinale.at/veranstaltung/auf-tour-buecherei-hohenems-2026/
LOCATION:Bücherei Hohenems\, Marktstraße 1a\, Hohenems\, 6845\, Austria
CATEGORIES:2026 - ALPINALE auf Tour
ATTACH;FMTTYPE=image/jpeg:https://alpinale.at/wp-content/uploads/2024/09/alpinaleauftour_hohenems-buecherei.jpg
END:VEVENT
BEGIN:VEVENT
DTSTART;TZID=Europe/Vienna:20260206T193000
DTEND;TZID=Europe/Vienna:20260206T213000
DTSTAMP:20260420T025201
CREATED:20250911T135940Z
LAST-MODIFIED:20250911T140034Z
UID:12842-1770406200-1770413400@alpinale.at
SUMMARY:auf Tour: Angelika Kauffmann Museum Schwarzenberg (2026)
DESCRIPTION:Ticketinfo \nDie besten ALPINALE Kurzfilme vom vergangenen Festival auf Tour. Ein ausgewähltes Programm von Publikumsfavoriten\, sowie mit dem Goldenen Einhorn ausgezeichnete Kurzfilme\, werden auf großer Leinwand vorgeführt. \n\nTickets beim Veranstalter erhältlich (Vorverkauf oder Abendkassa) \n\nKurzfilme werden von der ALPINALE zur Verfügung gestellt \n\nKategorie: 2025 v-shorts \nDAS ALTE MÄDCHENRegie: Hanna Mathis \nTrailer2024 \nÖsterreich \n5 Minuten \nMira\, 72\, ist zufrieden. Sie schreibt Gedichte an ihr junges Ich über ihr Leben\, die frische Ehe und Selbstliebe. \nBester Kurzfilm v-shorts 2025 \n\nKategorie: 2025 Animation \nDRAGFOXRegie: Lisa Ott \nTrailer2024 \nSchweiz \n8 Minuten \nSams Identitätssuche wird von einem geheimnisvollen Fuchs unterbrochen. Gemeinsam begeben sie sich auf eine magische Reise zum Dachboden\, um überraschende Gemeinsamkeiten zu entdecken und ihre Unterschiede zu feiern. \n\nKategorie: 2025 Kurzspielfilm \nSKIN ON SKINRegie: Simon Schneckenburger \nTrailer2024 \nDeutschland \n30 Minuten \nZwei Männer sind in der Hölle der deutschen Fleischindustrie gestrandet. Etwas Unausgesprochenes liegt zwischen ihnen\, doch etwas lässt sie auch wieder träumen. \nBester Kurzspielfilm 2025 \n\nKategorie: 2025 Kurzspielfilm \nMORT D’UN ACTEURRegie: Ambroise Rateau \nTrailer2024 \nFrankreich \n22 Minuten \nAls ein Mann entdeckt\, dass sich Falschmeldungen über seinen eigenen Tod online verbreiten\, muss er sich den schwerwiegenden\, unbeabsichtigten Folgen dieses Gerüchts stellen. \n\nKategorie: 2025 Kurzspielfilm \nALLÉGRESSERegie: Gillie Cinneri \nTrailer2023 \nBelgien \n19 Minuten \nDer Bestattungsunternehmer Serge erhält das Sorgerecht für seine Tochter Inès und die Asche eines Unbekannten. Auf der gemeinsamen Reise\, um dem Unbekannten die letzte Ehre zu erweisen\, knüpfen Serge und Inès unerwartete Bande. \n\nKategorie: 2025 Kurzspielfilm \nTHE TERRORISTRegie: Meena Rathor \nTrailer2024 \nNorwegen \n11 Minuten \nAls drei Mitbewohner einen neuen Hausgenossen aufnehmen\, steigen die Spannungen\, während Misstrauen über dessen wahre Natur wächst. Mit Humor und Satire entlarvt die Geschichte vorgefasste Meinungen und erforscht die Absurdität von Angst und Vorurteilen. \nPublikumspreis 2025
URL:https://alpinale.at/veranstaltung/auf-tour-angelika-kauffmann-museum-schwarzenberg-2026/
LOCATION:Angelika Kauffmann Museum Schwarzenberg\, Brand 34\, Schwarzenberg\, 6867\, Austria
CATEGORIES:2026 - ALPINALE auf Tour
ATTACH;FMTTYPE=image/jpeg:https://alpinale.at/wp-content/uploads/2024/09/alpinaleauftour_schwarzenberg-angelikakaufmann-saal.jpg
END:VEVENT
BEGIN:VEVENT
DTSTART;TZID=Europe/Vienna:20260220T193000
DTEND;TZID=Europe/Vienna:20260220T213000
DTSTAMP:20260420T025201
CREATED:20250911T140214Z
LAST-MODIFIED:20250911T140214Z
UID:12847-1771615800-1771623000@alpinale.at
SUMMARY:auf Tour: Spielboden Dornbirn (2026)
DESCRIPTION:Ticketinfo \nDie besten ALPINALE Kurzfilme vom vergangenen Festival auf Tour. Ein ausgewähltes Programm von Publikumsfavoriten\, sowie mit dem Goldenen Einhorn ausgezeichnete Kurzfilme\, werden auf großer Leinwand vorgeführt. \n\nTickets beim Veranstalter erhältlich (Vorverkauf oder Abendkassa) \n\nKurzfilme werden von der ALPINALE zur Verfügung gestellt \n\nKategorie: 2025 v-shorts \nDAS ALTE MÄDCHENRegie: Hanna Mathis \nTrailer2024 \nÖsterreich \n5 Minuten \nMira\, 72\, ist zufrieden. Sie schreibt Gedichte an ihr junges Ich über ihr Leben\, die frische Ehe und Selbstliebe. \nBester Kurzfilm v-shorts 2025 \n\nKategorie: 2025 Animation \nDRAGFOXRegie: Lisa Ott \nTrailer2024 \nSchweiz \n8 Minuten \nSams Identitätssuche wird von einem geheimnisvollen Fuchs unterbrochen. Gemeinsam begeben sie sich auf eine magische Reise zum Dachboden\, um überraschende Gemeinsamkeiten zu entdecken und ihre Unterschiede zu feiern. \n\nKategorie: 2025 Kurzspielfilm \nSKIN ON SKINRegie: Simon Schneckenburger \nTrailer2024 \nDeutschland \n30 Minuten \nZwei Männer sind in der Hölle der deutschen Fleischindustrie gestrandet. Etwas Unausgesprochenes liegt zwischen ihnen\, doch etwas lässt sie auch wieder träumen. \nBester Kurzspielfilm 2025 \n\nKategorie: 2025 Kurzspielfilm \nMORT D’UN ACTEURRegie: Ambroise Rateau \nTrailer2024 \nFrankreich \n22 Minuten \nAls ein Mann entdeckt\, dass sich Falschmeldungen über seinen eigenen Tod online verbreiten\, muss er sich den schwerwiegenden\, unbeabsichtigten Folgen dieses Gerüchts stellen. \n\nKategorie: 2025 Kurzspielfilm \nALLÉGRESSERegie: Gillie Cinneri \nTrailer2023 \nBelgien \n19 Minuten \nDer Bestattungsunternehmer Serge erhält das Sorgerecht für seine Tochter Inès und die Asche eines Unbekannten. Auf der gemeinsamen Reise\, um dem Unbekannten die letzte Ehre zu erweisen\, knüpfen Serge und Inès unerwartete Bande. \n\nKategorie: 2025 Kurzspielfilm \nTHE TERRORISTRegie: Meena Rathor \nTrailer2024 \nNorwegen \n11 Minuten \nAls drei Mitbewohner einen neuen Hausgenossen aufnehmen\, steigen die Spannungen\, während Misstrauen über dessen wahre Natur wächst. Mit Humor und Satire entlarvt die Geschichte vorgefasste Meinungen und erforscht die Absurdität von Angst und Vorurteilen. \nPublikumspreis 2025
URL:https://alpinale.at/veranstaltung/auf-tour-spielboden-dornbirn-2026/
LOCATION:Spielboden Dornbirn\, Färbergasse 15\, Dornbirn\, 6850\, Austria
CATEGORIES:2026 - ALPINALE auf Tour
ATTACH;FMTTYPE=image/jpeg:https://alpinale.at/wp-content/uploads/2024/09/alpinaleauftour_spielboden.jpg
END:VEVENT
BEGIN:VEVENT
DTSTART;TZID=Europe/Vienna:20260225T200000
DTEND;TZID=Europe/Vienna:20260225T220000
DTSTAMP:20260420T025201
CREATED:20250911T140026Z
LAST-MODIFIED:20250911T140026Z
UID:12843-1772049600-1772056800@alpinale.at
SUMMARY:auf Tour: Kammgarn Hard (2026)
DESCRIPTION:Ticketinfo \nDie besten ALPINALE Kurzfilme vom vergangenen Festival auf Tour. Ein ausgewähltes Programm von Publikumsfavoriten\, sowie mit dem Goldenen Einhorn ausgezeichnete Kurzfilme\, werden auf großer Leinwand vorgeführt. \n\nTickets beim Veranstalter erhältlich (Vorverkauf oder Abendkassa) \n\nKurzfilme werden von der ALPINALE zur Verfügung gestellt \n\nKategorie: 2025 v-shorts \nDAS ALTE MÄDCHENRegie: Hanna Mathis \nTrailer2024 \nÖsterreich \n5 Minuten \nMira\, 72\, ist zufrieden. Sie schreibt Gedichte an ihr junges Ich über ihr Leben\, die frische Ehe und Selbstliebe. \nBester Kurzfilm v-shorts 2025 \n\nKategorie: 2025 Animation \nDRAGFOXRegie: Lisa Ott \nTrailer2024 \nSchweiz \n8 Minuten \nSams Identitätssuche wird von einem geheimnisvollen Fuchs unterbrochen. Gemeinsam begeben sie sich auf eine magische Reise zum Dachboden\, um überraschende Gemeinsamkeiten zu entdecken und ihre Unterschiede zu feiern. \n\nKategorie: 2025 Kurzspielfilm \nSKIN ON SKINRegie: Simon Schneckenburger \nTrailer2024 \nDeutschland \n30 Minuten \nZwei Männer sind in der Hölle der deutschen Fleischindustrie gestrandet. Etwas Unausgesprochenes liegt zwischen ihnen\, doch etwas lässt sie auch wieder träumen. \nBester Kurzspielfilm 2025 \n\nKategorie: 2025 Kurzspielfilm \nMORT D’UN ACTEURRegie: Ambroise Rateau \nTrailer2024 \nFrankreich \n22 Minuten \nAls ein Mann entdeckt\, dass sich Falschmeldungen über seinen eigenen Tod online verbreiten\, muss er sich den schwerwiegenden\, unbeabsichtigten Folgen dieses Gerüchts stellen. \n\nKategorie: 2025 Kurzspielfilm \nALLÉGRESSERegie: Gillie Cinneri \nTrailer2023 \nBelgien \n19 Minuten \nDer Bestattungsunternehmer Serge erhält das Sorgerecht für seine Tochter Inès und die Asche eines Unbekannten. Auf der gemeinsamen Reise\, um dem Unbekannten die letzte Ehre zu erweisen\, knüpfen Serge und Inès unerwartete Bande. \n\nKategorie: 2025 Kurzspielfilm \nTHE TERRORISTRegie: Meena Rathor \nTrailer2024 \nNorwegen \n11 Minuten \nAls drei Mitbewohner einen neuen Hausgenossen aufnehmen\, steigen die Spannungen\, während Misstrauen über dessen wahre Natur wächst. Mit Humor und Satire entlarvt die Geschichte vorgefasste Meinungen und erforscht die Absurdität von Angst und Vorurteilen. \nPublikumspreis 2025
URL:https://alpinale.at/veranstaltung/auf-tour-kammgarn-hard-2026/
LOCATION:Kammgarn Hard\, Spinnereistraße 10\, Hard\, 6971
CATEGORIES:2026 - ALPINALE auf Tour
ATTACH;FMTTYPE=image/jpeg:https://alpinale.at/wp-content/uploads/2024/09/alpinaleauftour_kammgarn.jpg
END:VEVENT
END:VCALENDAR