BEGIN:VCALENDAR
VERSION:2.0
PRODID:-//ALPINALE Kurzfilmfestival - ECPv6.15.20//NONSGML v1.0//EN
CALSCALE:GREGORIAN
METHOD:PUBLISH
X-WR-CALNAME:ALPINALE Kurzfilmfestival
X-ORIGINAL-URL:https://alpinale.at
X-WR-CALDESC:Veranstaltungen für ALPINALE Kurzfilmfestival
REFRESH-INTERVAL;VALUE=DURATION:PT1H
X-Robots-Tag:noindex
X-PUBLISHED-TTL:PT1H
BEGIN:VTIMEZONE
TZID:Europe/Vienna
BEGIN:DAYLIGHT
TZOFFSETFROM:+0100
TZOFFSETTO:+0200
TZNAME:CEST
DTSTART:20240331T010000
END:DAYLIGHT
BEGIN:STANDARD
TZOFFSETFROM:+0200
TZOFFSETTO:+0100
TZNAME:CET
DTSTART:20241027T010000
END:STANDARD
BEGIN:DAYLIGHT
TZOFFSETFROM:+0100
TZOFFSETTO:+0200
TZNAME:CEST
DTSTART:20250330T010000
END:DAYLIGHT
BEGIN:STANDARD
TZOFFSETFROM:+0200
TZOFFSETTO:+0100
TZNAME:CET
DTSTART:20251026T010000
END:STANDARD
BEGIN:DAYLIGHT
TZOFFSETFROM:+0100
TZOFFSETTO:+0200
TZNAME:CEST
DTSTART:20260329T010000
END:DAYLIGHT
BEGIN:STANDARD
TZOFFSETFROM:+0200
TZOFFSETTO:+0100
TZNAME:CET
DTSTART:20261025T010000
END:STANDARD
END:VTIMEZONE
BEGIN:VEVENT
DTSTART;TZID=Europe/Vienna:20251010T193000
DTEND;TZID=Europe/Vienna:20251010T213000
DTSTAMP:20260419T195434
CREATED:20250911T143137Z
LAST-MODIFIED:20250911T164449Z
UID:12866-1760124600-1760131800@alpinale.at
SUMMARY:v-shorts Abend in Mellau (2025)
DESCRIPTION:Ticketinfo \nEine Auswahl an v-shorts Kurzfilmen vom Festival 2025. \n\nTickets beim Veranstalter erhältlich (Vorverkauf oder Abendkassa) \n\nKurzfilme werden von der ALPINALE zur Verfügung gestellt \nKategorie: 2025 v-shorts \nIF THEY COULD SPEAKRegie: Alexander Böckle \nTrailer2024 \nFinnland \n4 Minuten \nEin semi-dokumentarischer Kurzfilm über das Nachhaltigkeitsziel 12 „Nachhaltiger Konsum und Produktion“\, erzählt durch die Lebensgeschichte einer Person. \n\nKategorie: 2025 v-shorts \nCOURT OF DOUBTRegie: Jan Schenk \nTrailer2024 \nFinnland \n5 Minuten \nEine junge Schriftstellerin erwacht in einem surrealen Wald\, wo geisterhafte Gestalten\, unheimliche Spiegel und rätselhafte Symbole sie zwingen\, sich ihren Selbstzweifeln zu stellen. \n\nKategorie: 2025 v-shorts \nHOMEBODYRegie: Eve Roth \nTrailer2025 \nÖsterreich \n1 Minuten \nEin visuelles Portrait über das körperliche Selbstbild. \n\nKategorie: 2025 v-shorts \nAND SO WE ARE HERERegie: Alexander Böckle \nTrailer2025 \nÖsterreich \n15 Minuten \nAls Anna und Natan sich zufällig begegnen und beschließen\, den Tag miteinander zu verbringen\, prallen ihre unterschiedlichen Lebensweisen aufeinander\, wodurch die Grenzen zwischen richtig und falsch verschwimmen. \n\nKategorie: 2025 v-shorts \nDAS ALTE MÄDCHENRegie: Hanna Mathis \nTrailer2024 \nÖsterreich \n5 Minuten \nMira\, 72\, ist zufrieden. Sie schreibt Gedichte an ihr junges Ich über ihr Leben\, die frische Ehe und Selbstliebe. \nBester Kurzfilm v-shorts 2025 \n\nKategorie: 2025 v-shorts \nSCHERBEN BRINGEN GLÜCKRegie: Simon Latzer\, Annelie Straub \nTrailer2024 \nDeutschland\, Österreich \n25 Minuten \nIn einer kleinen Stadt treffen Otto\, ein erfolgloser Luftgitarrenbauer\, und Saberl\, eine leidenschaftliche Abmesserin\, aufeinander. Ihre Begegnung taucht ihr bisher tristes Leben in Farbe. Doch unerwartete Konflikte sorgen für Chaos. In dieser wortlosen Komödie entdecken zwei Clowns das Märchen der „einen wahren Liebe“ neu.
URL:https://alpinale.at/veranstaltung/v-shorts-abend-in-mellau-2025/
LOCATION:Dorfsaal Mellau\, Platz 551\, Mellau\, 6881\, Austria
ATTACH;FMTTYPE=image/jpeg:https://alpinale.at/wp-content/uploads/2024/09/alpinaleauftour_mellau-dorfsaal.jpg
END:VEVENT
BEGIN:VEVENT
DTSTART;TZID=Europe/Vienna:20251030T193000
DTEND;TZID=Europe/Vienna:20251030T220000
DTSTAMP:20260419T195435
CREATED:20250911T155046Z
LAST-MODIFIED:20251003T101939Z
UID:12884-1761852600-1761861600@alpinale.at
SUMMARY:auf Tour: Schellenberg Liechtenstein (2025)
DESCRIPTION:Ticketinfo \nDie besten ALPINALE Kurzfilme vom vergangenen Festival auf Tour. Ein ausgewähltes Programm von Publikumsfavoriten\, sowie mit dem Goldenen Einhorn ausgezeichnete Kurzfilme\, werden auf großer Leinwand vorgeführt. \n\nTickets beim Veranstalter erhältlich (Vorverkauf oder Abendkassa) \n\nKurzfilme werden von der ALPINALE zur Verfügung gestellt \n\nKategorie: 2025 v-shorts \nDAS ALTE MÄDCHENRegie: Hanna Mathis \nTrailer2024 \nÖsterreich \n5 Minuten \nMira\, 72\, ist zufrieden. Sie schreibt Gedichte an ihr junges Ich über ihr Leben\, die frische Ehe und Selbstliebe. \nBester Kurzfilm v-shorts 2025 \n\nKategorie: 2025 Animation \nDRAGFOXRegie: Lisa Ott \nTrailer2024 \nSchweiz \n8 Minuten \nSams Identitätssuche wird von einem geheimnisvollen Fuchs unterbrochen. Gemeinsam begeben sie sich auf eine magische Reise zum Dachboden\, um überraschende Gemeinsamkeiten zu entdecken und ihre Unterschiede zu feiern. \n\nKategorie: 2025 Kurzspielfilm \nSKIN ON SKINRegie: Simon Schneckenburger \nTrailer2024 \nDeutschland \n30 Minuten \nZwei Männer sind in der Hölle der deutschen Fleischindustrie gestrandet. Etwas Unausgesprochenes liegt zwischen ihnen\, doch etwas lässt sie auch wieder träumen. \nBester Kurzspielfilm 2025 \n\nKategorie: 2025 Kurzspielfilm \nMORT D’UN ACTEURRegie: Ambroise Rateau \nTrailer2024 \nFrankreich \n22 Minuten \nAls ein Mann entdeckt\, dass sich Falschmeldungen über seinen eigenen Tod online verbreiten\, muss er sich den schwerwiegenden\, unbeabsichtigten Folgen dieses Gerüchts stellen. \n\nKategorie: 2025 Kurzspielfilm \nALLÉGRESSERegie: Gillie Cinneri \nTrailer2023 \nBelgien \n19 Minuten \nDer Bestattungsunternehmer Serge erhält das Sorgerecht für seine Tochter Inès und die Asche eines Unbekannten. Auf der gemeinsamen Reise\, um dem Unbekannten die letzte Ehre zu erweisen\, knüpfen Serge und Inès unerwartete Bande. \n\nKategorie: 2025 Kurzspielfilm \nTHE TERRORISTRegie: Meena Rathor \nTrailer2024 \nNorwegen \n11 Minuten \nAls drei Mitbewohner einen neuen Hausgenossen aufnehmen\, steigen die Spannungen\, während Misstrauen über dessen wahre Natur wächst. Mit Humor und Satire entlarvt die Geschichte vorgefasste Meinungen und erforscht die Absurdität von Angst und Vorurteilen. \nPublikumspreis 2025
URL:https://alpinale.at/veranstaltung/auf-tour-schellenberg-liechtenstein-2025/
LOCATION:Gemeindehaus Schellenberg\, Dorf 49\, Vaduz\, 9488\, Liechtenstein
CATEGORIES:2026 - ALPINALE auf Tour
ATTACH;FMTTYPE=image/jpeg:https://alpinale.at/wp-content/uploads/2025/09/alpinaleauftour_bibliothek-liehctenstein.jpg
ORGANIZER;CN="Gemeinde Schellenberg":MAILTO:gemeinde@schellenberg.li
END:VEVENT
BEGIN:VEVENT
DTSTART;TZID=Europe/Vienna:20251031T190600
DTEND;TZID=Europe/Vienna:20251031T230000
DTSTAMP:20260419T195435
CREATED:20250913T201026Z
LAST-MODIFIED:20251003T082348Z
UID:12932-1761937560-1761951600@alpinale.at
SUMMARY:ALPTRAUM 2025 | Filmprogramm
DESCRIPTION:Kategorie: 2025 ALPTRAUM \nBAD HAIRRegie: Oskar Lehemaa \nTrailer2019 \nEstland \n15 Minuten \nLeo\, unsicher und glatzköpfig\, hat sich in seiner Wohnung eingeschlossen\, um ein neues Haarwuchsmittel zu versuchen. Die Tinktur wirkt\, aber nicht so\, wie er es gerne hätte. \n Bester Kurzfilm Horror 2021 \n\nKategorie: 2019 OBACHT\, 2025 ALPTRAUM \nPOST MORTEM MARYRegie: Joshua Long \n2017 \nAustralien \n9 Minuten \nMary und ihre Mutter betreiben im Australien der 1840er Jahre ein Geschäft für Post-Mortem-Fotografie. Als sie in einem kleinen Farmhaus ankommen\, finden sie verzweifelte Eltern vor\, die den Tod ihrer Tochter betrauern. Als sie sich an die Arbeit machen\, tröstet Marys Mutter die Eltern und Mary muss sich ihrer Phobie allein stellen. \n\nKategorie: 2021 ALPTRAUM\, 2025 ALPTRAUM \nEVERY TIME WE MEET FOR ICE CREAM YOUR WHOLE FUCKING FACE EXPLODESRegie: Anthony Cousins \n2022 \nUSA \n8 Minuten \nDer Titel sagt tatsächlich alles\, was man über den Film wissen muss. \n\nKategorie: 2022 ALPTRAUM\, 2025 ALPTRAUM \nLEECHRegie: George Coley \n2022 \nVereinigtes Königreich \n10 Minuten \nEine ältere blinde Frau weiß nichts von dem Fremden\, der sich heimlich in ihrem Haus eingenistet hat. Lediglich ihrem Pfleger fallen immer wieder merkwürdige Dinge rund ums Haus auf. \n\nKategorie: 2021 ALPTRAUM\, 2025 ALPTRAUM \nHUNGRY JOERegie: Paul Holbrook\, Sam Dawe \nTrailer2020 \nGroßbritannien \n23 Minuten \nEine alleinerziehende Mutter kämpft verzweifelt um ihre geistige Gesundheit\, während sie gezwungen wird\, immer extremere Maßnahmen zu ergreifen\, um den zunehmend unmenschlichen Appetit ihres Sohnes zu stillen. \n Bester Kurzfilm Horror 2022 \n\nKategorie: 2019 OBACHT\, 2025 ALPTRAUM \nTHE PROCEDURE 1 & 2Regie: Calvin Lee Reeder \n2016 \nUSA \n4 Minuten \nEin Mann wird gefangen genommen und zu einem seltsamen Experiment gezwungen. \n\nKategorie: 2023 ALPTRAUM\, 2025 ALPTRAUM \nGNOMESRegie: Ruwan Heggelman \nTrailer2022 \nNiederlande \n6 Minuten \nOhne sich dessen bewusst zu sein\, betritt eine junge Frau während ihrer täglichen Joggingrunde den Lebensraum eines Stammes von Killer-Zwergen. Schon bald wünscht sie sich\, sie wäre nicht vom Weg abgewichen. \n\nKategorie: 2024 ALPTRAUM\, 2025 ALPTRAUM \nTRANSYLVANIERegie: Rodrigue Huart \nTrailer2023 \nFrankreich \n15 Minuten \nDie 10-jährige Ewa hält sich für einen Vampir und träumt davon\, Hugo ebenfalls zu verwandeln. Als sie sich ihm offenbart\, wird sie von Jugendlichen gemobbt. Ewa versucht\, der Welt ihre Identität zu beweisen. \n\nKategorie: 2019 OBACHT\, 2025 ALPTRAUM \n9 STEPSRegie: Marisa Crespo\, Moisés Romera \nTrailer2018 \nSpanien \n7 Minuten \nSauls Vater hat es satt\, dass sein Sohn ihn jede Nacht aufweckt\, um auf die Toilette zu gehen. Heute Abend wird er ihm beibringen\, wie man ein Mann ist. \nBester Kurzfilm Horror 2020 \n\nKategorie: 2023 ALPTRAUM\, 2025 ALPTRAUM \nTHE MICROSCOPERegie: Elliot Vick\, Reuben Vick \nTrailer2022 \nVereinigtes Königreich \n10 Minuten \nEin exzentrischer Wissenschaftler bekommt einige seltene Proben in seine Hände\, aber was er durch die Linse seines Mikroskops zu sehen bekommt\, hätte er sich nie ausmalen können. \n\nKategorie: 2022 ALPTRAUM\, 2025 ALPTRAUM \nTHE TENANTRegie: Lucas Paulino\, Ángel Torres \nTrailer2021 \nSpanien \n10 Minuten \nMia wacht eines Morgens mit einem seltsamen Schmerz in ihrem Bein auf. Schnell findet sie heraus: Entweder sie spricht noch in dieser Nacht einen Zauberspruch\, oder ihr Leben wird nie wieder so sein wie zuvor. \nBester Kurzfilm Horror 2023 \n\nKategorie: 2024 ALPTRAUM\, 2025 ALPTRAUM \nTINY THINGRegie: Joshua Giuliano \n2023 \nUSA \n16 Minuten \nEin junges Paar möchte ein romantisches Wochenende in einer abgelegenen Hütte verbringen. Doch dann macht ihnen ein ungebetener Gast einen Strich durch die Rechnung. \nBester Kurzfilm Horror 2025
URL:https://alpinale.at/veranstaltung/alptraum-2025-filmprogramm/
LOCATION:ALPINALE Kurzfilmfestival\, Raiffeisenplatz 1\, Bludenz\, Vorarlberg\, 6700\, Austria
CATEGORIES:2025 - ALPTRAUM
ATTACH;FMTTYPE=image/jpeg:https://alpinale.at/wp-content/uploads/2025/09/alptraum_covr_web.jpg
END:VEVENT
END:VCALENDAR