BEGIN:VCALENDAR
VERSION:2.0
PRODID:-//ALPINALE Kurzfilmfestival - ECPv6.15.20//NONSGML v1.0//EN
CALSCALE:GREGORIAN
METHOD:PUBLISH
X-ORIGINAL-URL:https://alpinale.at
X-WR-CALDESC:Veranstaltungen für ALPINALE Kurzfilmfestival
REFRESH-INTERVAL;VALUE=DURATION:PT1H
X-Robots-Tag:noindex
X-PUBLISHED-TTL:PT1H
BEGIN:VTIMEZONE
TZID:Europe/Vienna
BEGIN:DAYLIGHT
TZOFFSETFROM:+0100
TZOFFSETTO:+0200
TZNAME:CEST
DTSTART:20240331T010000
END:DAYLIGHT
BEGIN:STANDARD
TZOFFSETFROM:+0200
TZOFFSETTO:+0100
TZNAME:CET
DTSTART:20241027T010000
END:STANDARD
BEGIN:DAYLIGHT
TZOFFSETFROM:+0100
TZOFFSETTO:+0200
TZNAME:CEST
DTSTART:20250330T010000
END:DAYLIGHT
BEGIN:STANDARD
TZOFFSETFROM:+0200
TZOFFSETTO:+0100
TZNAME:CET
DTSTART:20251026T010000
END:STANDARD
BEGIN:DAYLIGHT
TZOFFSETFROM:+0100
TZOFFSETTO:+0200
TZNAME:CEST
DTSTART:20260329T010000
END:DAYLIGHT
BEGIN:STANDARD
TZOFFSETFROM:+0200
TZOFFSETTO:+0100
TZNAME:CET
DTSTART:20261025T010000
END:STANDARD
END:VTIMEZONE
BEGIN:VEVENT
DTSTART;VALUE=DATE:20250805
DTEND;VALUE=DATE:20250810
DTSTAMP:20260419T182525
CREATED:20250524T182049Z
LAST-MODIFIED:20251003T101659Z
UID:11867-1754352000-1754783999@alpinale.at
SUMMARY:VR-shorts (360°) Wettbewerb | Programm 2025
DESCRIPTION:Festivalübersicht\nKategorie: 2025 VR-shorts (360°) \nCOFFIN ROOMRegie: Kay Kwan\, Lam Nhi Le \nTrailer2024 \nAustralien \n7 Minuten \nDer Film beleuchtet die beengten Wohnverhältnisse in Hongkong\, am Beispiel der täglichen Kämpfe eines älteren Ehepaares. \n\nKategorie: 2025 VR-shorts (360°) \nFINALLY MERegie: Marcio Sal \n2023 \nBrasilien \n18 Minuten \nAus einem unscheinbaren Bordell in Rio de Janeiro entspringt die poetische Coming-out-Geschichte des gealterten Musikers Herrn Saul. Belastet von lebenslanger Scham\, findet er durch die Kraft der Musik\, inspiriert vom Karneval\, Selbstakzeptanz und Transformation. \nBester Kurzfilm VR-shorts 2025 \n\nKategorie: 2025 VR-shorts (360°) \nLOST AND FOUNDRegie: Dime Gjorgjievski \nTrailer2024 \nFinnland \n8 Minuten \nIm Leben verlieren wir so viel: wichtige Gegenstände\, Menschen\, Hoffnung. „The Lost and Found“ ist keine bloße Geschichte; es ist ein Ort\, an den Verlorenes und Verlorene gelangen können\, um The Keeper zu begegnen. Wandle unter den Verlorenen\, stelle dich The Keeper und finde schließlich zu dir selbst. \n\nKategorie: 2025 VR-shorts (360°) \nMAGIC YOURegie: Tongze Guo \nTrailer2024 \nChina \n12 Minuten \n„Magic You“ ist ein interaktives VR-Erlebnis\, das ADHS in handgezeichneter Ästhetik erkundet. Diese magische Coming-of-Age-Reise beleuchtet Freuden\, Ängste und Herausforderungen von ADHS-Patienten\, um dem Publikum ein besseres Verständnis für ADHS zu vermitteln. \n\nKategorie: 2025 VR-shorts (360°) \nMAX QRegie: Joel Benjamin \nTrailer2024 \nUSA \n18 Minuten \nDie Beziehungen eines Tiefraum-Vermessungsteams werden bis an die Grenzen getrieben\, als sie sich auf eine gefährliche Such- und Rettungsmission auf einer unerforschten Alienwelt begeben. \n\nKategorie: 2025 VR-shorts (360°) \nTHE IMAGINARY FRIENDRegie: Steye Hallema \nTrailer2023 \nNiederlande \n25 Minuten \nDer achtjährige Daniel\, traumatisiert vom Verlust seiner Mutter\, fürchtet\, ihre Erinnerungen zu verlieren. Seine lebhafte Fantasie erschafft „Kill Ghosts“\, die seine glücklichen Momente bedrohen. Um sie zu bekämpfen\, erfindet er DICH\, den Spieler\, mit dem er seine Welt teilen kann.
URL:https://alpinale.at/veranstaltung/2025-vr-shorts-360-wettbewerb/
LOCATION:Remisesaal Bludenz\, Raiffeisenplatz 1\, Bludenz\, Vorarlberg\, 6700\, Austria
CATEGORIES:2025 - 40. ALPINALE Kurzfilmfestival
ATTACH;FMTTYPE=image/jpeg:https://alpinale.at/wp-content/uploads/2024/05/IMG_0861_web.jpg
END:VEVENT
BEGIN:VEVENT
DTSTART;TZID=Europe/Vienna:20250808T233000
DTEND;TZID=Europe/Vienna:20250809T233000
DTSTAMP:20260419T182525
CREATED:20250524T182103Z
LAST-MODIFIED:20251003T101353Z
UID:11876-1754695800-1754782200@alpinale.at
SUMMARY:Freitag\, Horror Wettbewerb | Programm 2025
DESCRIPTION:Festivalübersicht\nKategorie: 2025 Horror \nALICIARegie: Tony Morales \nTrailer2023 \nSpanien \n6 Minuten \nCarolina muss sich den Kindheitsängsten ihrer kürzlich erblindeten Tochter Alicia stellen\, die glaubt\, eine alte Frau lebe in ihrem Zimmer. \n\nKategorie: 2025 Horror \nTRANSYLVANIERegie: Rodrigue Huart \nTrailer2023 \nFrankreich \n15 Minuten \nDie 10-jährige Ewa hält sich für einen Vampir und träumt davon\, Hugo ebenfalls zu verwandeln. Als sie sich ihm offenbart\, wird sie von Jugendlichen gemobbt. Ewa versucht\, der Welt ihre Identität zu beweisen. \n\nKategorie: 2025 Horror \nBOOKWORMRegie: Javier Yañez Sanz \nTrailer2023 \nSpanien \n14 Minuten \nSpanien\, 1979: Die angehende Schriftstellerin Irene ist besessen von einem zarten Geist in der Bibliothek\, in der sie arbeitet. \n\nKategorie: 2025 Horror \nHUNGERRegie: Jennifer Mallmann\, Esra Laske \n2023 \nDeutschland \n9 Minuten \nLeni und Paul gelten als "gut funktionierendes" Paar\, doch beim Abendessen mit den neuen Nachbarn erkennen sie\, dass dies nicht mehr stimmt. Während des Desserts erträgt Leni den Zerfall ihrer Beziehung nicht länger und wird von einem alles verzehrenden Hunger überwältigt. \n\nKategorie: 2025 Horror \nTINY THINGRegie: Joshua Giuliano \n2023 \nUSA \n16 Minuten \nEin junges Paar möchte ein romantisches Wochenende in einer abgelegenen Hütte verbringen. Doch dann macht ihnen ein ungebetener Gast einen Strich durch die Rechnung. \nBester Kurzfilm Horror 2025 \n\nKategorie: 2025 Horror \nWE JOINED A CULTRegie: Chris McInroy \nTrailer2023 \nUSA \n4 Minuten \nDie Geschichte zweier Freunde\, die einfach nur Kickball spielen wollten.
URL:https://alpinale.at/veranstaltung/2025-freitag-horror-wettbewerb/
LOCATION:Remisesaal Bludenz\, Raiffeisenplatz 1\, Bludenz\, Vorarlberg\, 6700\, Austria
CATEGORIES:2025 - 40. ALPINALE Kurzfilmfestival
ATTACH;FMTTYPE=image/jpeg:https://alpinale.at/wp-content/uploads/2024/05/IMG_1470_web.jpg
END:VEVENT
BEGIN:VEVENT
DTSTART;TZID=Europe/Vienna:20250809T130000
DTEND;TZID=Europe/Vienna:20250809T163000
DTSTAMP:20260419T182525
CREATED:20250629T215454Z
LAST-MODIFIED:20250802T120058Z
UID:12321-1754744400-1754757000@alpinale.at
SUMMARY:Masterclass: From script to score | Programm 2025
DESCRIPTION:Festivalübersicht\nMehr Infos folgen.TIPS & TRICKS FOR COLLABORATION BETWEEN FILMMAKERS AND COMPOSERSWorkshophost Raimund Hepp (Composer for film music) www.raimund-hepp.com \nGreat movies stand and fall with carefully crafted film music. Especially in times of copyright-free and often generic music\, it is more important than ever to foster successful collaborations between musicians and film crews. \nRaimund Hepp is an experienced film composer\, musician and synth programmer. During the workshop\, he will provide our industry guests with the tools necessary for effective communication between directors/producers and film composers. He will illustrate his points with examples and anecdotes from his own professional experience. \nBei Interesse bitte direkt unter office@alpinale.at melden.
URL:https://alpinale.at/veranstaltung/2025-samstag-masterclass-from-script-to-score/
LOCATION:Bibliothek des Bundesgymnasiums Bludenz\, Unterfeldstraße 11\, Bludenz\, 6700\, Österreich
CATEGORIES:2025 - 40. ALPINALE Kurzfilmfestival
ATTACH;FMTTYPE=image/png:https://alpinale.at/wp-content/uploads/2025/06/img_masterclass__score_script-e1754136045528.png
END:VEVENT
BEGIN:VEVENT
DTSTART;TZID=Europe/Vienna:20250809T203000
DTEND;TZID=Europe/Vienna:20250809T233000
DTSTAMP:20260419T182525
CREATED:20250524T182104Z
LAST-MODIFIED:20251003T101338Z
UID:11877-1754771400-1754782200@alpinale.at
SUMMARY:Samstag\, Preisverleihung 2025
DESCRIPTION:Festivalübersicht\nAm Samstag findet die Preisverleihung des Festivals statt. Nach der Verleihung werden noch einmal die ausgezeichneten Filme dem Publikum vorgeführt.
URL:https://alpinale.at/veranstaltung/2025-samstag-preisverleihung/
LOCATION:Remisevorplatz Bludenz (Open Air)\, Raiffeisenplatz 1\, Bludenz\, Vorarlberg\, 6700\, Austria
CATEGORIES:2025 - 40. ALPINALE Kurzfilmfestival
ATTACH;FMTTYPE=image/jpeg:https://alpinale.at/wp-content/uploads/2023/08/web_Alpinale_23_Di_BY_MATTHIAS_RHOMBERG_119.jpg
END:VEVENT
END:VCALENDAR