BEGIN:VCALENDAR
VERSION:2.0
PRODID:-//ALPINALE Kurzfilmfestival - ECPv6.15.20//NONSGML v1.0//EN
CALSCALE:GREGORIAN
METHOD:PUBLISH
X-WR-CALNAME:ALPINALE Kurzfilmfestival
X-ORIGINAL-URL:https://alpinale.at
X-WR-CALDESC:Veranstaltungen für ALPINALE Kurzfilmfestival
REFRESH-INTERVAL;VALUE=DURATION:PT1H
X-Robots-Tag:noindex
X-PUBLISHED-TTL:PT1H
BEGIN:VTIMEZONE
TZID:Europe/Vienna
BEGIN:DAYLIGHT
TZOFFSETFROM:+0100
TZOFFSETTO:+0200
TZNAME:CEST
DTSTART:20240331T010000
END:DAYLIGHT
BEGIN:STANDARD
TZOFFSETFROM:+0200
TZOFFSETTO:+0100
TZNAME:CET
DTSTART:20241027T010000
END:STANDARD
BEGIN:DAYLIGHT
TZOFFSETFROM:+0100
TZOFFSETTO:+0200
TZNAME:CEST
DTSTART:20250330T010000
END:DAYLIGHT
BEGIN:STANDARD
TZOFFSETFROM:+0200
TZOFFSETTO:+0100
TZNAME:CET
DTSTART:20251026T010000
END:STANDARD
BEGIN:DAYLIGHT
TZOFFSETFROM:+0100
TZOFFSETTO:+0200
TZNAME:CEST
DTSTART:20260329T010000
END:DAYLIGHT
BEGIN:STANDARD
TZOFFSETFROM:+0200
TZOFFSETTO:+0100
TZNAME:CET
DTSTART:20261025T010000
END:STANDARD
END:VTIMEZONE
BEGIN:VEVENT
DTSTART;VALUE=DATE:20250805
DTEND;VALUE=DATE:20250810
DTSTAMP:20260419T182117
CREATED:20250524T182049Z
LAST-MODIFIED:20251003T101659Z
UID:11867-1754352000-1754783999@alpinale.at
SUMMARY:VR-shorts (360°) Wettbewerb | Programm 2025
DESCRIPTION:Festivalübersicht\nKategorie: 2025 VR-shorts (360°) \nCOFFIN ROOMRegie: Kay Kwan\, Lam Nhi Le \nTrailer2024 \nAustralien \n7 Minuten \nDer Film beleuchtet die beengten Wohnverhältnisse in Hongkong\, am Beispiel der täglichen Kämpfe eines älteren Ehepaares. \n\nKategorie: 2025 VR-shorts (360°) \nFINALLY MERegie: Marcio Sal \n2023 \nBrasilien \n18 Minuten \nAus einem unscheinbaren Bordell in Rio de Janeiro entspringt die poetische Coming-out-Geschichte des gealterten Musikers Herrn Saul. Belastet von lebenslanger Scham\, findet er durch die Kraft der Musik\, inspiriert vom Karneval\, Selbstakzeptanz und Transformation. \nBester Kurzfilm VR-shorts 2025 \n\nKategorie: 2025 VR-shorts (360°) \nLOST AND FOUNDRegie: Dime Gjorgjievski \nTrailer2024 \nFinnland \n8 Minuten \nIm Leben verlieren wir so viel: wichtige Gegenstände\, Menschen\, Hoffnung. „The Lost and Found“ ist keine bloße Geschichte; es ist ein Ort\, an den Verlorenes und Verlorene gelangen können\, um The Keeper zu begegnen. Wandle unter den Verlorenen\, stelle dich The Keeper und finde schließlich zu dir selbst. \n\nKategorie: 2025 VR-shorts (360°) \nMAGIC YOURegie: Tongze Guo \nTrailer2024 \nChina \n12 Minuten \n„Magic You“ ist ein interaktives VR-Erlebnis\, das ADHS in handgezeichneter Ästhetik erkundet. Diese magische Coming-of-Age-Reise beleuchtet Freuden\, Ängste und Herausforderungen von ADHS-Patienten\, um dem Publikum ein besseres Verständnis für ADHS zu vermitteln. \n\nKategorie: 2025 VR-shorts (360°) \nMAX QRegie: Joel Benjamin \nTrailer2024 \nUSA \n18 Minuten \nDie Beziehungen eines Tiefraum-Vermessungsteams werden bis an die Grenzen getrieben\, als sie sich auf eine gefährliche Such- und Rettungsmission auf einer unerforschten Alienwelt begeben. \n\nKategorie: 2025 VR-shorts (360°) \nTHE IMAGINARY FRIENDRegie: Steye Hallema \nTrailer2023 \nNiederlande \n25 Minuten \nDer achtjährige Daniel\, traumatisiert vom Verlust seiner Mutter\, fürchtet\, ihre Erinnerungen zu verlieren. Seine lebhafte Fantasie erschafft „Kill Ghosts“\, die seine glücklichen Momente bedrohen. Um sie zu bekämpfen\, erfindet er DICH\, den Spieler\, mit dem er seine Welt teilen kann.
URL:https://alpinale.at/veranstaltung/2025-vr-shorts-360-wettbewerb/
LOCATION:Remisesaal Bludenz\, Raiffeisenplatz 1\, Bludenz\, Vorarlberg\, 6700\, Austria
CATEGORIES:2025 - 40. ALPINALE Kurzfilmfestival
ATTACH;FMTTYPE=image/jpeg:https://alpinale.at/wp-content/uploads/2024/05/IMG_0861_web.jpg
END:VEVENT
BEGIN:VEVENT
DTSTART;TZID=Europe/Vienna:20250807T150000
DTEND;TZID=Europe/Vienna:20250807T163000
DTSTAMP:20260419T182117
CREATED:20250629T215206Z
LAST-MODIFIED:20251003T101631Z
UID:12317-1754578800-1754584200@alpinale.at
SUMMARY:Expert-Talk: KI trifft Kino | Programm 2025
DESCRIPTION:Festivalübersicht\nIm Gespräch mit Filmemacher Marcel BarsottiStill aus dem Film \nWas passiert\, wenn künstliche Intelligenz nicht nur Thema\, sondern die Machart von Filmen beeinflusst und verändert? Festivalintendantin Manuela Mylonas spricht mit Marcel Barsotti darüber wie KI die filmische Erzählweise verändert. Statt klassischem Vortrag erwartet euch ein offenes Gespräch voller Einblicke\, Anekdoten und Ausblicke. Wie viel Mensch steckt noch im KI-Film? Und was bedeutet das für die Zukunft des Kinos? \nDer Kurzfilm Transformation von Marcel Barsotti läuft im Anschluss im Wettbewerbsprogramm der ALPINALE ab 20.30. \nPoster \nTrailer \nIn 2024 realisierte Marcel Barsotti als Filmregisseur sein Debut mit dem Kurzfilm „Transformation“\, eine aufwendige Science-Fiction Produktion\, die sich mit der Frage beschäftigt\, inwieweit Leben in diesem Universum Frieden finden kann oder ob Lebewesen grundsätzlich dazu dauerhaft in der Lage sind. Bereits in 2020 begann Barsotti als Musikvideo Regisseur an diversen Projekten zu arbeiten und erhielt für sein elektronisches Musikvideo “The New Human” den David Award (2023) und für “Fields” den Onkyo Award (2023). \nMehr zu Marcel Barsotti hier. \nMarcel Barsotti
URL:https://alpinale.at/veranstaltung/2025-donnerstag-expert-talk-ki-trifft-kino/
LOCATION:Remisesaal Bludenz\, Raiffeisenplatz 1\, Bludenz\, Vorarlberg\, 6700\, Austria
CATEGORIES:2025 - 40. ALPINALE Kurzfilmfestival
ATTACH;FMTTYPE=image/png:https://alpinale.at/wp-content/uploads/2025/05/Transformation_STILL_web.png
END:VEVENT
BEGIN:VEVENT
DTSTART;TZID=Europe/Vienna:20250807T173000
DTEND;TZID=Europe/Vienna:20250807T190000
DTSTAMP:20260419T182117
CREATED:20250524T182056Z
LAST-MODIFIED:20251003T101626Z
UID:11871-1754587800-1754593200@alpinale.at
SUMMARY:Donnerstag\, v-shorts Wettbewerb | Programm 2025
DESCRIPTION:Festivalübersicht\nKategorie: 2025 v-shorts \nIF THEY COULD SPEAKRegie: Alexander Böckle \n2024 \nFinnland \n4 Minuten \nEin semi-dokumentarischer Kurzfilm über das Nachhaltigkeitsziel 12 „Nachhaltiger Konsum und Produktion“\, erzählt durch die Lebensgeschichte einer Person. \n\nKategorie: 2025 v-shorts \nCOURT OF DOUBTRegie: Jan Schenk \n2024 \nFinnland \n5 Minuten \nEine junge Schriftstellerin erwacht in einem surrealen Wald\, wo geisterhafte Gestalten\, unheimliche Spiegel und rätselhafte Symbole sie zwingen\, sich ihren Selbstzweifeln zu stellen. \n\nKategorie: 2025 v-shorts \nHOMEBODYRegie: Eve Roth \n2025 \nÖsterreich \n1 Minuten \nEin visuelles Portrait über das körperliche Selbstbild. \n\nKategorie: 2025 v-shorts \nAND SO WE ARE HERERegie: Alexander Böckle \n2025 \nÖsterreich \n15 Minuten \nAls Anna und Natan sich zufällig begegnen und beschließen\, den Tag miteinander zu verbringen\, prallen ihre unterschiedlichen Lebensweisen aufeinander\, wodurch die Grenzen zwischen richtig und falsch verschwimmen. \n\nKategorie: 2025 v-shorts \nDAS ALTE MÄDCHENRegie: Hanna Mathis \n2024 \nÖsterreich \n5 Minuten \nMira\, 72\, ist zufrieden. Sie schreibt Gedichte an ihr junges Ich über ihr Leben\, die frische Ehe und Selbstliebe. \nBester Kurzfilm v-shorts 2025 \n\nKategorie: 2025 v-shorts \nSCHERBEN BRINGEN GLÜCKRegie: Simon Latzer\, Annelie Straub \nTrailer2024 \nDeutschland\, Österreich \n25 Minuten \nIn einer kleinen Stadt treffen Otto\, ein erfolgloser Luftgitarrenbauer\, und Saberl\, eine leidenschaftliche Abmesserin\, aufeinander. Ihre Begegnung taucht ihr bisher tristes Leben in Farbe. Doch unerwartete Konflikte sorgen für Chaos. In dieser wortlosen Komödie entdecken zwei Clowns das Märchen der „einen wahren Liebe“ neu.
URL:https://alpinale.at/veranstaltung/2025-donnerstag-wettbewerb-vshorts/
LOCATION:Remisesaal Bludenz\, Raiffeisenplatz 1\, Bludenz\, Vorarlberg\, 6700\, Austria
CATEGORIES:2025 - 40. ALPINALE Kurzfilmfestival
ATTACH;FMTTYPE=image/jpeg:https://alpinale.at/wp-content/uploads/2024/05/IMG_1175_web.jpg
END:VEVENT
BEGIN:VEVENT
DTSTART;TZID=Europe/Vienna:20250807T203000
DTEND;TZID=Europe/Vienna:20250807T233000
DTSTAMP:20260419T182118
CREATED:20250524T182057Z
LAST-MODIFIED:20251003T101619Z
UID:11872-1754598600-1754609400@alpinale.at
SUMMARY:Donnerstag\, Wettbewerb International | Programm 2025
DESCRIPTION:Festivalübersicht\nKategorie: 2025 Kurzspielfilm \nFIRE DRILLRegie: Maximilian Villwock \nTrailer2024 \nDeutschland \n20 Minuten \nEin junger Ukrainer erfüllt sich seinen Traum\, auf einem Containerschiff zu arbeiten. Doch der Krieg in der Heimat und die Gefahren an Bord machen seine Reise ins Erwachsenenalter zu einer entscheidenden Prüfung. \n\nKategorie: 2025 Animation \nJ’AI AVALÉ UNE CHENILLERegie: Basile Knatir \n2024 \nFrankreich \n10 Minuten \nNachdem Tristan beim Tequila-Shot versehentlich eine Raupe verschluckt hat\, liegt er im Koma. Seine Gedanken kreisen um Partymädchen\, rauchende Krankenschwestern\, seine dominante Mutter und das ungelöste Problem seines Facebook-Profilbilds – ein ganz normaler Teenager eben. \n\nKategorie: 2025 Animation \nEL EXTRAÑO CASO DEL HOMBRE BALARegie: Roberto Valencia \nTrailer2024 \nEcuador \n10 Minuten \nEin mysteriöser Mann wird auf dem Dorfplatz eines Sechs-Einwohner- Dorfes gefunden. Niemand kennt ihn oder seine Herkunft. Schnell müssen  die Bewohner entscheiden\, was zu tun ist\, bevor der Fremde erwacht. \n\nKategorie: 2025 Kurzspielfilm \nFUTURE IS PANORAMARegie: Muschirf Shekh Zeyn \n2024 \nSyrien \n15 Minuten \nAls Siham\, eine Immigrantin in Deutschland\, entdeckt\, dass ihre Tochter vor rechtsextremen Terroristen flieht\, begibt sie sich trotz Untätigkeit der Polizei auf eine verzweifelte Suche\, um sie zu retten. \n\nKategorie: 2025 Kurzspielfilm \nDER FLÜGEL DES TRÄUMERSRegie: Lukas Zumbrock \n2024 \nDeutschland \n9 Minuten \nDas Drehbuch für „Dreamer‘s Key“ wurde vollständig von einer künstlichen Intelligenz geschrieben. Die Geschichte von Paul\, einem Pianisten\, der seine Liebe zur Musik wiederentdeckt. Ein filmisches Experiment\, gedreht auf 35-mm-Film\, das die Grenzen zwischen künstlicher Intelligenz und menschlicher Kreativität auslotet. \n\nKategorie: 2025 Animation \nTRANSFORMATIONRegie: Marcel Barsotti \nTrailer2024 \nDeutschland \n12 Minuten \nAuf der Erde leben nur noch Menschen\, ernährt vom „gelben Nova“\, nachdem Genversuche die Nahrungskette zerstörten. In ferner Zukunft fliehen die letzten hochintelligenten Drakzuls vor der Zerstörung ihres Planeten. Auf der Suche nach einer neuen Welt zum Überleben haben sie diese gefunden: die Erde. \n\nKategorie: 2025 Animation \nFREAK OF NATURERegie: Alexandra Lermer \n2024 \nDeutschland \n8 Minuten \nEin scheues\, einsames Wesen traut sich nicht\, seinen alten Zirkuskäfig zu verlassen\, bis es einen kleinen Setzling zum Pflegen findet. Persönliches Wachstum und das Überwinden von Angst stehen im Mittelpunkt. \n\nKategorie: 2025 Kurzspielfilm \nMORT D’UN ACTEURRegie: Ambroise Rateau \nTrailer2024 \nFrankreich \n22 Minuten \nAls ein Mann entdeckt\, dass sich Falschmeldungen über seinen eigenen Tod online verbreiten\, muss er sich den schwerwiegenden\, unbeabsichtigten Folgen dieses Gerüchts stellen. \n\nKategorie: 2025 Kurzspielfilm \nWHIPPYRegie: James Rooke \nTrailer2024 \nVereinigtes Königreich \n5 Minuten \nIm Glasgow der 1980er Jahre ist ein schmutziger Revierkampf zwischen rivalisierenden Speiseeisfirmen ausgebrochen\, nachdem ein unseriöser Verkäufer beim Überschreiten der Bezirksgrenzen erwischt wurde.
URL:https://alpinale.at/veranstaltung/2025-donnerstag-wettbewerb-international/
LOCATION:Remisesaal Bludenz\, Raiffeisenplatz 1\, Bludenz\, Vorarlberg\, 6700\, Austria
CATEGORIES:2025 - 40. ALPINALE Kurzfilmfestival
ATTACH;FMTTYPE=image/jpeg:https://alpinale.at/wp-content/uploads/2023/08/web_Alpinale_23_Di_BY_MATTHIAS_RHOMBERG_124.jpg
END:VEVENT
END:VCALENDAR