BEGIN:VCALENDAR
VERSION:2.0
PRODID:-//ALPINALE Kurzfilmfestival - ECPv6.15.20//NONSGML v1.0//EN
CALSCALE:GREGORIAN
METHOD:PUBLISH
X-ORIGINAL-URL:https://alpinale.at
X-WR-CALDESC:Veranstaltungen für ALPINALE Kurzfilmfestival
REFRESH-INTERVAL;VALUE=DURATION:PT1H
X-Robots-Tag:noindex
X-PUBLISHED-TTL:PT1H
BEGIN:VTIMEZONE
TZID:Europe/Vienna
BEGIN:DAYLIGHT
TZOFFSETFROM:+0100
TZOFFSETTO:+0200
TZNAME:CEST
DTSTART:20240331T010000
END:DAYLIGHT
BEGIN:STANDARD
TZOFFSETFROM:+0200
TZOFFSETTO:+0100
TZNAME:CET
DTSTART:20241027T010000
END:STANDARD
BEGIN:DAYLIGHT
TZOFFSETFROM:+0100
TZOFFSETTO:+0200
TZNAME:CEST
DTSTART:20250330T010000
END:DAYLIGHT
BEGIN:STANDARD
TZOFFSETFROM:+0200
TZOFFSETTO:+0100
TZNAME:CET
DTSTART:20251026T010000
END:STANDARD
BEGIN:DAYLIGHT
TZOFFSETFROM:+0100
TZOFFSETTO:+0200
TZNAME:CEST
DTSTART:20260329T010000
END:DAYLIGHT
BEGIN:STANDARD
TZOFFSETFROM:+0200
TZOFFSETTO:+0100
TZNAME:CET
DTSTART:20261025T010000
END:STANDARD
END:VTIMEZONE
BEGIN:VEVENT
DTSTART;VALUE=DATE:20250805
DTEND;VALUE=DATE:20250810
DTSTAMP:20260419T182436
CREATED:20250524T182049Z
LAST-MODIFIED:20251003T101659Z
UID:11867-1754352000-1754783999@alpinale.at
SUMMARY:VR-shorts (360°) Wettbewerb | Programm 2025
DESCRIPTION:Festivalübersicht\nKategorie: 2025 VR-shorts (360°) \nCOFFIN ROOMRegie: Kay Kwan\, Lam Nhi Le \nTrailer2024 \nAustralien \n7 Minuten \nDer Film beleuchtet die beengten Wohnverhältnisse in Hongkong\, am Beispiel der täglichen Kämpfe eines älteren Ehepaares. \n\nKategorie: 2025 VR-shorts (360°) \nFINALLY MERegie: Marcio Sal \n2023 \nBrasilien \n18 Minuten \nAus einem unscheinbaren Bordell in Rio de Janeiro entspringt die poetische Coming-out-Geschichte des gealterten Musikers Herrn Saul. Belastet von lebenslanger Scham\, findet er durch die Kraft der Musik\, inspiriert vom Karneval\, Selbstakzeptanz und Transformation. \nBester Kurzfilm VR-shorts 2025 \n\nKategorie: 2025 VR-shorts (360°) \nLOST AND FOUNDRegie: Dime Gjorgjievski \nTrailer2024 \nFinnland \n8 Minuten \nIm Leben verlieren wir so viel: wichtige Gegenstände\, Menschen\, Hoffnung. „The Lost and Found“ ist keine bloße Geschichte; es ist ein Ort\, an den Verlorenes und Verlorene gelangen können\, um The Keeper zu begegnen. Wandle unter den Verlorenen\, stelle dich The Keeper und finde schließlich zu dir selbst. \n\nKategorie: 2025 VR-shorts (360°) \nMAGIC YOURegie: Tongze Guo \nTrailer2024 \nChina \n12 Minuten \n„Magic You“ ist ein interaktives VR-Erlebnis\, das ADHS in handgezeichneter Ästhetik erkundet. Diese magische Coming-of-Age-Reise beleuchtet Freuden\, Ängste und Herausforderungen von ADHS-Patienten\, um dem Publikum ein besseres Verständnis für ADHS zu vermitteln. \n\nKategorie: 2025 VR-shorts (360°) \nMAX QRegie: Joel Benjamin \nTrailer2024 \nUSA \n18 Minuten \nDie Beziehungen eines Tiefraum-Vermessungsteams werden bis an die Grenzen getrieben\, als sie sich auf eine gefährliche Such- und Rettungsmission auf einer unerforschten Alienwelt begeben. \n\nKategorie: 2025 VR-shorts (360°) \nTHE IMAGINARY FRIENDRegie: Steye Hallema \nTrailer2023 \nNiederlande \n25 Minuten \nDer achtjährige Daniel\, traumatisiert vom Verlust seiner Mutter\, fürchtet\, ihre Erinnerungen zu verlieren. Seine lebhafte Fantasie erschafft „Kill Ghosts“\, die seine glücklichen Momente bedrohen. Um sie zu bekämpfen\, erfindet er DICH\, den Spieler\, mit dem er seine Welt teilen kann.
URL:https://alpinale.at/veranstaltung/2025-vr-shorts-360-wettbewerb/
LOCATION:Remisesaal Bludenz\, Raiffeisenplatz 1\, Bludenz\, Vorarlberg\, 6700\, Austria
CATEGORIES:2025 - 40. ALPINALE Kurzfilmfestival
ATTACH;FMTTYPE=image/jpeg:https://alpinale.at/wp-content/uploads/2024/05/IMG_0861_web.jpg
END:VEVENT
BEGIN:VEVENT
DTSTART;TZID=Europe/Vienna:20250806T173000
DTEND;TZID=Europe/Vienna:20250806T190000
DTSTAMP:20260419T182436
CREATED:20250524T182053Z
LAST-MODIFIED:20251003T101646Z
UID:11869-1754501400-1754506800@alpinale.at
SUMMARY:Mittwoch\, v-shorts Wettbewerb | Programm 2025
DESCRIPTION:Festivalübersicht\nKategorie: 2025 v-shorts \nRÄUBER IN DER STADTRegie: Workshop Filmwerk Vorarlberg/REEL MOVIE mit Coach Niklas Kirchler \n2024 \nÖsterreich \n2 Minuten \nDer Stadt-Schläfer schläft tief und merkt nicht\, dass Räuber ins Museum eingebrochen sind. Aufmerksame Jugendliche benachrichtigen den Bürgermeister\, der sie bittet\, die Fahndung aufzunehmen. Doch selbstverständlich steht die Work-Life-Balance auch hier im Vordergrund. \n\nKategorie: 2025 v-shorts \nDEMONRegie: Workshop Filmwerk Vorarlberg/REEL MOVIE mit Coach Nikolaus Kargl \n2024 \nÖsterreich \n2 Minuten \nEin junges Mädchen nimmt die Verfolgung auf. Ihr Dämon ist ausgebrochen und treibt sein Unwesen in der Stadt. Sie versucht\, ihn wieder einzufangen\, doch mittlerweile sind schon mehrere Bewohner besessen. \n\nKategorie: 2025 v-shorts \nTHE MOST ANNOYING GIRLRegie: Workshop Filmwerk Vorarlberg/REEL MOVIE mit Coach Kurt Gehring \n2024 \nÖsterreich \n6 Minuten \nSie ist das nervtötendste Mädchen\, das man sich vorstellen kann. Als sie eines Tages entführt wird\, wähnen die Kidnapper sich im großen Geld. Doch schon nach kurzer Zeit erkennen sie\, dass ihr Opfer schlichtweg nicht auszuhalten ist. Genervt bis zur Verzweiflung\, bleibt ihnen nur eine Option: sie so schnell wie möglich nach Hause zurückzubringen. \n\nKategorie: 2025 v-shorts \nDIE OMINÖSE TASCHERegie: Workshop Filmwerk Vorarlberg/REEL MOVIE mit Coach Aaron Sutterlütte \n2024 \nÖsterreich \n2 Minuten \nJugendliche beschützen eine ominöse Tasche und setzen alles daran\, sie zum Bürgermeister der Stadt Bludenz zu bringen. Sie geben alles für Bludenz – doch was gibt Bludenz ihnen? \n\nKategorie: 2025 v-shorts \nHERBSTLAUBRegie: Walter Schöpf \n2024 \nÖsterreich \n4 Minuten \nWorte sind wie der Wind; sie stärken die Seele und tragen die Gedanken in die Welt. \n\nKategorie: 2025 v-shorts \nRADIARegie: Laurin Schmidle \n2024 \nÖsterreich \n3 Minuten \nDer Sci-Fi-Experimentalfilm erzählt die Geschichte eines Charakters\, der sich in einer dystopischen Zukunft wiederfindet. \n\nKategorie: 2025 v-shorts \nCHOICESRegie: Aline Jewell \n2024 \nÖsterreich\, Vereinigtes Königreich \n21 Minuten \nMaria will in London Karriere machen\, doch ihr Englisch als Nicht- Muttersprachlerin ist eine Herausforderung für ihre Leidenschaft:  Shakespeare-Rollen. Sie steht vor einer schwierigen Wahl: dem Wunsch ihres Mannes nach einer Familie nachzugeben oder alles für ihre Berufung zu geben. \n\nKategorie: 2025 v-shorts \nLES CRÉATURES FRAGILESRegie: Julia Gulàs \n2023 \nÖsterreich \n1 Minuten \nDieser Film erforscht das Thema der Metamorphose und die damit verbundenen Transformationen. \n\nKategorie: 2025 v-shorts \nA DANCE AGAINST THE SYSTEMRegie: Fabio Paulmichl \n2024 \nPortugal \n2 Minuten \nWarum ist es so seltsam\, in der Stadt zu tanzen? Ist es nicht in Ordnung\, vor anderen zu tun\, was man will? Frei sein\, tanzen\, sich ausdrücken. Ist diese ganze gebaute Struktur nützlich\, oder ist der Boden der Natur nicht immer die beste Wahl – ein Ort\, an dem wir nicht von anderen verurteilt werden? Darum geht es in diesem Experiment.
URL:https://alpinale.at/veranstaltung/2025-mittwoch-wettbewerb-vshorts/
LOCATION:Remisesaal Bludenz\, Raiffeisenplatz 1\, Bludenz\, Vorarlberg\, 6700\, Austria
CATEGORIES:2025 - 40. ALPINALE Kurzfilmfestival
ATTACH;FMTTYPE=image/jpeg:https://alpinale.at/wp-content/uploads/2024/05/IMG_1175_web.jpg
END:VEVENT
BEGIN:VEVENT
DTSTART;TZID=Europe/Vienna:20250806T203000
DTEND;TZID=Europe/Vienna:20250806T233000
DTSTAMP:20260419T182436
CREATED:20250524T182054Z
LAST-MODIFIED:20251003T101652Z
UID:11870-1754512200-1754523000@alpinale.at
SUMMARY:Mittwoch\, Wettbewerb International | Programm 2025
DESCRIPTION:Festivalübersicht\nKategorie: 2025 Kurzspielfilm \nTHE STORMRegie: Clemente Lohr \nTrailer2023 \nVereinigtes Königreich \n13 Minuten \nDie Chance eines aufstrebenden Schauspielers auf den Durchbruch zerfällt nach einem moralischen Dilemma in Sekundenbruchteilen während eines entscheidenden Castings. Konfrontiert mit einer mysteriösen Begegnung\, stellen seine Entscheidungen Ehrgeiz gegen Verantwortung und lassen schließlich seine Wahrnehmung der Realität zerbröseln. \n\nKategorie: 2025 Kurzspielfilm \nTHE FOOLRegie: Hannah Weissenborn \n2024 \nDeutschland \n8 Minuten \nAls Dolores (48)\, Kostümnäherin für die Fasnacht\, erfährt\, dass sie Brustkrebs hat\, beschließt sie\, es niemandem zu erzählen. Kurz darauf beginnt sie\, einen mysteriösen Narren zu sehen\, den niemand sonst bemerkt. \n\nKategorie: 2025 Animation \nLINIE 12Regie: Sarah Schulz \n2025 \nDeutschland \n9 Minuten \nDer pedantische Zugführer Peregrin navigiert seinen Zug präzise durch eine Welt steiler Berge. Als die chaotische Musikerin Clara sich in seinen Maschinenraum schmuggelt\, kollidiert ihre Improvisation mit seiner Akribie. Eine drohende Katastrophe zwingt sie jedoch\, ihre Gegensätze zu überwinden\, um den Zug vor dem Entgleisen zu bewahren. \n\nKategorie: 2025 Kurzspielfilm \nSKIN ON SKINRegie: Simon Schneckenburger \nTrailer2024 \nDeutschland \n30 Minuten \nZwei Männer sind in der Hölle der deutschen Fleischindustrie gestrandet. Etwas Unausgesprochenes liegt zwischen ihnen\, doch etwas lässt sie auch wieder träumen. \nBester Kurzspielfilm 2025 \n\nKategorie: 2025 Animation \nHOBOTNICA BANANA MISMASRegie: Milanka Fabjancic \nTrailer2023 \nSlowenien \n8 Minuten \nBegleite die lebendige\, jahrzehntelange Reise der besten Freundinnen und Seelenverwandten Mila und Mara. Obwohl ihre Lebenswege unterschiedlich sind\, vereinen sie sich in einem wunderbaren Abenteuer\, das von schwesterlicher Liebe geprägt und angetrieben wird. \n\nKategorie: 2025 Animation \nDETLEVRegie: Ferdinand Ehrhardt \nTrailer2024 \nDeutschland \n13 Minuten \nEin frierender Straßenkehrer findet Wärme in einem nächtlichen\, bizarren Ritual mit einem Mikrowellen-Hawaii-Toast an einer Tankstelle. Als ein Bauarbeiter ihn dabei beobachtet\, bricht seine Welt auseinander und treibt ihn in eine verzweifelte\, dunkle Suche nach Ersatzwärme. \nBester Kurzfilm Animation 2025 \n\nKategorie: 2025 Kurzspielfilm \nALLÉGRESSERegie: Gillie Cinneri \nTrailer2023 \nBelgien \n19 Minuten \nDer Bestattungsunternehmer Serge erhält das Sorgerecht für seine Tochter Inès und die Asche eines Unbekannten. Auf der gemeinsamen Reise\, um dem Unbekannten die letzte Ehre zu erweisen\, knüpfen Serge und Inès unerwartete Bande. \n\nKategorie: 2025 Kurzspielfilm \nTHE HEAD ON HIMRegie: Seán Gallen \nTrailer2024 \nIrland \n15 Minuten \nEin Junge zieht in den 90er Jahren nach Irland und rasiert seinen Afro ab\, um sich anzupassen. Als dieser größer und größer nachwächst und ihn in seinem Zimmer gefangen hält\, muss er einen Weg hinausfinden.
URL:https://alpinale.at/veranstaltung/2025-mittwoch-wettbewerb-international/
LOCATION:Remisevorplatz Bludenz (Open Air)\, Raiffeisenplatz 1\, Bludenz\, Vorarlberg\, 6700\, Austria
CATEGORIES:2025 - 40. ALPINALE Kurzfilmfestival
ATTACH;FMTTYPE=image/jpeg:https://alpinale.at/wp-content/uploads/2023/08/web_Alpinale_23_Di_BY_MATTHIAS_RHOMBERG_124.jpg
END:VEVENT
END:VCALENDAR