BEGIN:VCALENDAR
VERSION:2.0
PRODID:-//ALPINALE Kurzfilmfestival - ECPv6.15.20//NONSGML v1.0//EN
CALSCALE:GREGORIAN
METHOD:PUBLISH
X-WR-CALNAME:ALPINALE Kurzfilmfestival
X-ORIGINAL-URL:https://alpinale.at
X-WR-CALDESC:Veranstaltungen für ALPINALE Kurzfilmfestival
REFRESH-INTERVAL;VALUE=DURATION:PT1H
X-Robots-Tag:noindex
X-PUBLISHED-TTL:PT1H
BEGIN:VTIMEZONE
TZID:Europe/Vienna
BEGIN:DAYLIGHT
TZOFFSETFROM:+0100
TZOFFSETTO:+0200
TZNAME:CEST
DTSTART:20240331T010000
END:DAYLIGHT
BEGIN:STANDARD
TZOFFSETFROM:+0200
TZOFFSETTO:+0100
TZNAME:CET
DTSTART:20241027T010000
END:STANDARD
BEGIN:DAYLIGHT
TZOFFSETFROM:+0100
TZOFFSETTO:+0200
TZNAME:CEST
DTSTART:20250330T010000
END:DAYLIGHT
BEGIN:STANDARD
TZOFFSETFROM:+0200
TZOFFSETTO:+0100
TZNAME:CET
DTSTART:20251026T010000
END:STANDARD
BEGIN:DAYLIGHT
TZOFFSETFROM:+0100
TZOFFSETTO:+0200
TZNAME:CEST
DTSTART:20260329T010000
END:DAYLIGHT
BEGIN:STANDARD
TZOFFSETFROM:+0200
TZOFFSETTO:+0100
TZNAME:CET
DTSTART:20261025T010000
END:STANDARD
END:VTIMEZONE
BEGIN:VEVENT
DTSTART;VALUE=DATE:20250805
DTEND;VALUE=DATE:20250810
DTSTAMP:20260419T164313
CREATED:20250524T182049Z
LAST-MODIFIED:20251003T101659Z
UID:11867-1754352000-1754783999@alpinale.at
SUMMARY:VR-shorts (360°) Wettbewerb | Programm 2025
DESCRIPTION:Festivalübersicht\nKategorie: 2025 VR-shorts (360°) \nCOFFIN ROOMRegie: Kay Kwan\, Lam Nhi Le \nTrailer2024 \nAustralien \n7 Minuten \nDer Film beleuchtet die beengten Wohnverhältnisse in Hongkong\, am Beispiel der täglichen Kämpfe eines älteren Ehepaares. \n\nKategorie: 2025 VR-shorts (360°) \nFINALLY MERegie: Marcio Sal \n2023 \nBrasilien \n18 Minuten \nAus einem unscheinbaren Bordell in Rio de Janeiro entspringt die poetische Coming-out-Geschichte des gealterten Musikers Herrn Saul. Belastet von lebenslanger Scham\, findet er durch die Kraft der Musik\, inspiriert vom Karneval\, Selbstakzeptanz und Transformation. \nBester Kurzfilm VR-shorts 2025 \n\nKategorie: 2025 VR-shorts (360°) \nLOST AND FOUNDRegie: Dime Gjorgjievski \nTrailer2024 \nFinnland \n8 Minuten \nIm Leben verlieren wir so viel: wichtige Gegenstände\, Menschen\, Hoffnung. „The Lost and Found“ ist keine bloße Geschichte; es ist ein Ort\, an den Verlorenes und Verlorene gelangen können\, um The Keeper zu begegnen. Wandle unter den Verlorenen\, stelle dich The Keeper und finde schließlich zu dir selbst. \n\nKategorie: 2025 VR-shorts (360°) \nMAGIC YOURegie: Tongze Guo \nTrailer2024 \nChina \n12 Minuten \n„Magic You“ ist ein interaktives VR-Erlebnis\, das ADHS in handgezeichneter Ästhetik erkundet. Diese magische Coming-of-Age-Reise beleuchtet Freuden\, Ängste und Herausforderungen von ADHS-Patienten\, um dem Publikum ein besseres Verständnis für ADHS zu vermitteln. \n\nKategorie: 2025 VR-shorts (360°) \nMAX QRegie: Joel Benjamin \nTrailer2024 \nUSA \n18 Minuten \nDie Beziehungen eines Tiefraum-Vermessungsteams werden bis an die Grenzen getrieben\, als sie sich auf eine gefährliche Such- und Rettungsmission auf einer unerforschten Alienwelt begeben. \n\nKategorie: 2025 VR-shorts (360°) \nTHE IMAGINARY FRIENDRegie: Steye Hallema \nTrailer2023 \nNiederlande \n25 Minuten \nDer achtjährige Daniel\, traumatisiert vom Verlust seiner Mutter\, fürchtet\, ihre Erinnerungen zu verlieren. Seine lebhafte Fantasie erschafft „Kill Ghosts“\, die seine glücklichen Momente bedrohen. Um sie zu bekämpfen\, erfindet er DICH\, den Spieler\, mit dem er seine Welt teilen kann.
URL:https://alpinale.at/veranstaltung/2025-vr-shorts-360-wettbewerb/
LOCATION:Remisesaal Bludenz\, Raiffeisenplatz 1\, Bludenz\, Vorarlberg\, 6700\, Austria
CATEGORIES:2025 - 40. ALPINALE Kurzfilmfestival
ATTACH;FMTTYPE=image/jpeg:https://alpinale.at/wp-content/uploads/2024/05/IMG_0861_web.jpg
END:VEVENT
BEGIN:VEVENT
DTSTART;TZID=Europe/Vienna:20250805T203000
DTEND;TZID=Europe/Vienna:20250805T233000
DTSTAMP:20260419T164313
CREATED:20250524T182051Z
LAST-MODIFIED:20251003T101640Z
UID:11868-1754425800-1754436600@alpinale.at
SUMMARY:Dienstag\, Eröffnung und Wettbewerb International | Programm 2025
DESCRIPTION:Festivalübersicht\nKategorie: 2025 Kurzspielfilm \nLA ASISTENTERegie: Pierre Llanos \nTrailer2023 \nPeru \n20 Minuten \nClara\, die ihrem Vater in einer informellen Zahnarztpraxis assistiert\, ist fasziniert von einer neuen Patientin\, die nicht im Terminregister steht. \n\nKategorie: 2025 Kurzspielfilm \nHIPPOCAMPUSRegie: Xaime Miranda \nTrailer2024 \nSpanien \n15 Minuten \nGefangen in der Erinnerung an einen Nachmittag mit seiner platonischen Liebe Marta\, nutzt der alte Tomás ein experimentelles Gerät\, um diesen Moment noch einmal zu erleben und sich seinen Bedauern zu stellen. \n\nKategorie: 2025 Animation \nSOPA FRIARegie: Marta Monteiro \nTrailer2023 \nPortugal \n10 Minuten \nEine Frau\, Opfer häuslicher Gewalt\, blickt auf ihre Ehejahre zurück und erinnert sich an den immensen Kampf\, in dieser Zeit nicht unterzugehen. \n\nKategorie: 2025 Kurzspielfilm \nLUIRegie: Matthias Couquet \n2024 \nFrankreich \n11 Minuten \nFrançois trifft seinen Freund Pierre\, der behauptet\, von einem regungslosen Fremden verfolgt zu werden. Der Verfolger\, immer auf Distanz\, nähert sich unaufhaltsam mit bösen Absichten\, und Pierre kann ihn nicht abschütteln. \n\nKategorie: 2025 Animation \nDRAGFOXRegie: Lisa Ott \nTrailer2024 \nSchweiz \n8 Minuten \nSams Identitätssuche wird von einem geheimnisvollen Fuchs unterbrochen. Gemeinsam begeben sie sich auf eine magische Reise zum Dachboden\, um überraschende Gemeinsamkeiten zu entdecken und ihre Unterschiede zu feiern. \n\nKategorie: 2025 Animation \nON HOLDRegie: Delia Hess \nTrailer2024 \nSchweiz \n7 Minuten \nEine junge Frau steckt in der Warteschleife einer Telefonhotline fest. Ein surrealer\, episodischer Kurzfilm über die Absurditäten des städtischen Lebens und die Frustration eines lähmenden Stillstands. \n\nKategorie: 2025 Kurzspielfilm \nTHE MANY WORLDS OF GEORGE GOODMANRegie: Gregg Bishop \nTrailer2023 \nUSA \n21 Minuten \nEin deprimierter Baseballtrainer einer Highschool wird von seinem alternativen Ich angegriffen und in eine Parallelwelt geschickt. Nun kämpft er darum\, in diesem Sci-Fi-Abenteuer zu seiner Familie zurückzukehren. \n\nKategorie: 2025 Kurzspielfilm \nDIE ABSPERRFRAU – TRAUMJOB FILMBRANCHERegie: Paul Baumann \n2024 \nDeutschland \n17 Minuten \nDie arbeitslose Nici (37) wird von ihrem Onkel Olaf (67) zum ersten Mal als Wachfrau an ein Filmset mitgenommen. Doch die scheinbar einfache Aufgabe\, Passanten und Autofahrer während der Dreharbeiten kurz anzuhalten\, entwickelt sich zu einer Kette von Misserfolgen.
URL:https://alpinale.at/veranstaltung/2025-dienstag-wettbewerb-international/
LOCATION:Remisevorplatz Bludenz (Open Air)\, Raiffeisenplatz 1\, Bludenz\, Vorarlberg\, 6700\, Austria
CATEGORIES:2025 - 40. ALPINALE Kurzfilmfestival
ATTACH;FMTTYPE=image/jpeg:https://alpinale.at/wp-content/uploads/2023/08/web_Alpinale_23_Di_BY_MATTHIAS_RHOMBERG_124.jpg
END:VEVENT
END:VCALENDAR